BEGIN:VCALENDAR
VERSION:1.0
BEGIN:VEVENT
DTSTART:20201019T193000
DTEND:20201019T193001
SUMMARY:#PublicEventsGoSocial: Παρουσίαση του βιβλίου «Κραυγή για το αύριο» της Μπέρρυς Ναχμίας
LOCATION:
DESCRIPTION:
PRIORITY:3
END:VEVENT
END:VCALENDAR