BEGIN:VCALENDAR
VERSION:1.0
BEGIN:VEVENT
DTSTART:20210402T173000
DTEND:20210402T173001
SUMMARY:Γιορτάζουμε την Παγκόσμια Ημέρα Παιδικού Βιβλίου!
LOCATION:
DESCRIPTION:
PRIORITY:3
END:VEVENT
END:VCALENDAR